BEGIN:VCALENDAR
VERSION:2.0
PRODID:-//The Clothes Maiden Magazine - ECPv6.15.12//NONSGML v1.0//EN
CALSCALE:GREGORIAN
METHOD:PUBLISH
X-WR-CALNAME:The Clothes Maiden Magazine
X-ORIGINAL-URL:https://www.theclothesmaiden.com
X-WR-CALDESC:Events for The Clothes Maiden Magazine
REFRESH-INTERVAL;VALUE=DURATION:PT1H
X-Robots-Tag:noindex
X-PUBLISHED-TTL:PT1H
BEGIN:VTIMEZONE
TZID:UTC
BEGIN:STANDARD
TZOFFSETFROM:+0000
TZOFFSETTO:+0000
TZNAME:UTC
DTSTART:20150101T000000
END:STANDARD
END:VTIMEZONE
BEGIN:VEVENT
DTSTART;TZID=UTC:20170422T150000
DTEND;TZID=UTC:20170423T013000
DTSTAMP:20260423T221601
CREATED:20170417T130358Z
LAST-MODIFIED:20170417T130539Z
UID:21587-1492873200-1492911000@www.theclothesmaiden.com
SUMMARY:Yarp Festival 2017
DESCRIPTION:BANDS \nMaia – 10pm\nSelf proclaimed inventors of Psychedelic Sci-fi folk Maia create a genre busting mix of sweet stunning vocal harmonies over funky blissed out grooves; punctuated by echoing banjo\, guitar\, shimmering mandolins\, spooky brass\,deep bass and keyboards. \nEat Me –\nMusically overreaching Slacker Rock. \nShe & The Junkies –\ncombine Glam\, Glitter\, Psychedelic and Retro Rock and are always with one foot on the accelerator pedal. \nThe Rash – \nAshford Indie Ska Punk band who love performing live! Catch them supporting MADNESS in 2017 \nBenzokayn –\nelements of classic Nü-Metal and modern Melodic Hardcore to carve a rare niche. \nDeary Me –\nIndie emo synth shoegaze\, ‘As old school as a fat Michael Bublé’ \nThe Young Hearts –\n“Gaslight Anthem-ish New Jersey-via-Canterbury clutch of songs that deal in poetic personal observations and musings\, nowhere more so than main track Shallow.” [Kerrang! KKKK] \nMedicine Club –\nIndie rock from Canterbury\, Kent. Inspired by Bloc Party\, Oasis and Radiohead. \nElegance In Sound – 11pm\nRETRO GAMES\nSTREET FIGHTER – MORTAL COMBAT – SONIC – STAR WARS – BATMAN ECCO THE DOLPHIN – ALEX THE KID – GOLDEN AXE – COLUMNS ASTROSMASH – ENCHANTED CASTLE – MEAN BEAN MACHINE – ESWAT DECAP ATTACK – SHADOW DANCER – SONIC PINBALL – ALIEN STORM WRESTLING plus 100+ more
URL:https://www.theclothesmaiden.com/event/yarp-festival-2017/
LOCATION:Leas Cliff Hall\, The Leas\, Folkestone\, CT20 2DZ\, United Kingdom
CATEGORIES:Music
END:VEVENT
BEGIN:VEVENT
DTSTART;TZID=UTC:20170203T200000
DTEND;TZID=UTC:20170204T040000
DTSTAMP:20260423T221601
CREATED:20161205T095919Z
LAST-MODIFIED:20161205T100103Z
UID:26518-1486152000-1486180800@www.theclothesmaiden.com
SUMMARY:London Remixed Festival 2017
DESCRIPTION:London is a powerhouse of musical innovation and the London Remixed Festival brings you the finest selection for 2017. Showcasing the best in Latin Grooves\, Afrobeats\, Tropical Bass\, Vintage- Remix\, Balkan Beats and Acoustic Soundclash\, they are kicking Global London into the future! The festival is a celebration of the best emerging musical talent\, but without the mud\, rain or hassle of camping; expect performances from over 25 cutting edge band and DJs across four stages and two days all in one vibrant venue nestled in the heart of Shoreditch. \n\n\n\n\n\n\n\n\n\n\n\n\n\n\n \nThis year’s headliners include a DJ set from the creators of Beating Heart; an ongoing charity organisation set up by Hugh Tracy\, who made 35\,000 field recordings across Sub-Saharan Africa between the 1920’s and 1970’s; his intention was to reveal the beauty and complexity of this music to a world that saw little value in it. Beating Heart has connected the International Library of African Music (ILAM) archive with contemporary producers including Rudimental & My Nu Leng\, making fresh sounds for a modern audience. Building from Tracey’s vision\, the income generated from the project will be used to assist people in the areas where the music originally came from. Project co- founders and DJs Olly Wood and Chris Pedley will be spinning the originals alongside the fresh re- mixes plus a load of other funky tunes. \n\n\n\n\n\n\n\n\nFor 2017 London Remixed Festival are bringing a brand new Remix Fair event in partnership with Community Music. The free event includes Remix Workshops with established guest producers and Community Music Tutors in a professional recording studio\, Panel Discussions and a Mini Trade Fair.
URL:https://www.theclothesmaiden.com/event/london-remixed-festival-2017/
LOCATION:Richmix\, 35-47 Bethnal Green Road\, London\, Shoreditch \, E1 6LA
CATEGORIES:Music
END:VEVENT
BEGIN:VEVENT
DTSTART;TZID=UTC:20160626T100000
DTEND;TZID=UTC:20160630T120000
DTSTAMP:20260423T221601
CREATED:20160428T125756Z
LAST-MODIFIED:20160430T073421Z
UID:23271-1466935200-1467288000@www.theclothesmaiden.com
SUMMARY:Preview: Hideout Festival 2016 Returns!
DESCRIPTION:With tickets on the verge of selling out for a sixth year running\, Hideout Festival has now have announced the programme for their infamous boat parties. Taking place between 26th and 30th June\, some of the biggest names and nights in clubland will be bringing their parties to the high seas. Taking a turn at the helm this year with their specially curated parties will be Bicep\, Mu Nu Leng\, Darius Syrossian\, Eton Messy\, Dusky\, Hannah Wants\, Eats Everything\, Preditah\, Danny Howard\, Monki\, Gorgon City\, B.Traits\, Jackmaster and Midland\, and the now infamous Welcome to Hideout Sunday parties. A limited amount of boat party tickets available. \n\n\n\n \nWith two already sold out pre festival boats\, followed by daily boat parties every day the festival takes place\, there are sure to be many highlights with an outrageous amount of talent and special surprises set to play. The specially curated parties from the best nights and artists in clubland include Do Not Sleep\, Feel My Bicep\, Metropolis\, Notion\, Nothing Else Matters\, Eton Messy\, What Hannah Wants\, Edible\, Monki & Friends\, Gorgon City Kingdom\, Mu Nu Leng & M8’s x Thump\, Future Sound\, Dusky Presents and not forgetting Numbers x Graded. An unmissable part of the festival experience\, Mixmag will be jumping on board to film three very special sets from the seas. \n \nThose who prefer to stick to dry land will not miss out\, as Hideout Festival boasts one of its most eclectic line ups to date with artists spanning the breadth of the electronic music spectrum. Over 150 artists are set to perform across the five stages along Zrce Beach including Skepta\, Jamie xx\, John Talabot\, Hot Since 82\, Andy C\, The Martinez Brothers and many more. Day to night parties span across sea and land from the 26th – 30th June promising round the clock unforgettable entertainment. The daily pool parties kick off every day from 3pm – 8pm hosted by good friends of Hideout including BBC Radio 1\, Paradise\, Jackathon and Elrow. \n“To celebrate this year’s epic festival season\, Smirnoff\, the world’s most popular vodka brand\, is proud to be the official vodka and partner with the biggest festivals across Europe including Hideout; teaming up great music and great drinks to make the week one to remember.”- Nicholas Cornbleet – Brand Manager Smirnoff Europe/Diageo. \nHideout Boat Parties Presented by Smirnoff – Tickets available online. 
URL:https://www.theclothesmaiden.com/event/hideout-festival-2016-returns/
LOCATION:Plaža Zrće\, Plaža Zrće bb\, Croatia\, Novalja\, 53291\, Croatia (Local Name: Hrvatska)
CATEGORIES:Music,Things To Do
END:VEVENT
BEGIN:VEVENT
DTSTART;VALUE=DATE:20160604
DTEND;VALUE=DATE:20160605
DTSTAMP:20260423T221601
CREATED:20160217T121119Z
LAST-MODIFIED:20160217T121141Z
UID:21697-1464998400-1465084799@www.theclothesmaiden.com
SUMMARY:Camden Rocks Festival 2016
DESCRIPTION:Returning for its fifth year\, this coming Saturday June 4th 2016 sees the welcome return of the Camden Rocks Festival; over two-hundred high-energy bands performing in multiple venues across Camden Town. It’s a one-mile strut of thrilling music that takes place in over twenty different venues and runs the full gauntlet of rock n’roll\, from punk to indie to metal to classic rock\, the future of rock rubbing shoulders with the past and the present\, all exploding together in one glorious cacophony of chaos and noise. \n \nBands already confirmed to play include Young Guns\, We Are The Ocean\, InMe\, Ginger Wildheart\, Norma Jean\, Evil Scarecrow\, New Years Day and fresh from supporting Slipknot on their UK tour\, Watford based progressive metal legends SikTh. The following acts are also confirmed to perform\, with many more to be announced including headliners and smaller bands: The Godfathers\, The Virginmarys\, The Qemists\, Warrior Soul\, Jim Jones And The Righteous Mind\, Queen Kwong\, Forever Never\, As Lions\, The Men That Will Not Be Blamed For Nothing\, The Dirty Youth\, Shvpes\, Black Foxxes\, Freeze The Atlantic\, Asylums\, The Main Grains\, Lounge Kittens\, The Carnabys\, Press To Meco\, Continents\, Shields\, Fathoms\, Blood Youth\, Scholars\, Ashestoangels\, Dorje\, Cold In Berlin\, Samoans\, Bare Knuckle Parade\, Nibbinz\, The Dirty Thrills\, Create To Inspire\, Witterquick\, The Tuts\, Lock\, Moses\, Counting Days\, The Ghost Riders In The Sky\, Roxanne De Bastion\, The Derellas\, Black Casino & The Ghost\, The RPMs\, Hands Off Gretel\, Bad Sign\, Thunder On The Left\, Role Models\, Mercutio\, Critics\, Chinese Missy\, False-Heads\, The King’s Parade\, Louise Distras\, Leisure Tank\, Suzie Stapleton\, Hoodoo Daze\, Falling Knives and Matty James. \nOver 200 bands for £35 playing in over twenty different venues. \nVenues include: \nELECTRIC BALLROOM *UNDERWORLD * PROUD * BARFLY * BARFLY DOWNSTAIRS * DINGWALLS * BLACK HEART * HAWLEY ARMS * MONARCH * THE GOOD MIXER * THE CUBAN * BREW-DOG * DINGWALLS CANALSIDE * THE FORGE * THE CROWNDALE * DUBLIN CASTLE *BLOC BAR * CAMDEN CAVERN @ BELUSHIS * FIFTY FIVE \n£35 tickets are now available from this link here subject to booking / transaction fees.  More information on the links below. \nhttp://www.camdenrocksfestival.com\n http://www.facebook.com/CamdenRocksFestival\n https://twitter.com/CamdenRocksFest\n #CamdenRocks
URL:https://www.theclothesmaiden.com/event/camden-rocks-festival-2016/
LOCATION:Folkestone
CATEGORIES:Music
END:VEVENT
BEGIN:VEVENT
DTSTART;TZID=UTC:20160514T220000
DTEND;TZID=UTC:20160514T220000
DTSTAMP:20260423T221601
CREATED:20160512T090435Z
LAST-MODIFIED:20160512T090435Z
UID:23664-1463263200-1463263200@www.theclothesmaiden.com
SUMMARY:Mayfair London Extravaganza
DESCRIPTION:Continental Drifts\, GoMad Events and DeepBrass Prod are once again joining forces to bring a section of BoomTown’s immersive and outlandish festival to South London as part of the new ‘Boomtown Gatherings spin-off events’ with the Mayfair London Extravaganza at Electric Brixton on Saturday 14th May. Following the incredible London show last year\, the Mayfair Avenue Extravaganza is back to treat you to a sample of some of their favourite acts\, with mesmerising characters on hand to transport you to an incredible place filled with craziness\, glamour\, glitter\, and circus performers. \n\n\n\n\n \nHeading up the musical bill on the main stage are Ed Solo alongside studio partner Deekline (ft. Gardna); one of the finest producers in the dance music business Ed Solo honed his skills as a junglist; while Deekline is a platinum selling bass music icon balancing the cutting edge and mainstream with effortless flair. Backing up Ed Solo and Deekline on the main stage is producer and DJ extraordinaire A. Skillz\, who fuses funk\, soul and hip-hop with D’n’B\, dub-step and breaks. Known for his dance floor destruction\, Father Funk will be bringing his energetic DJ mix of bass\, big beats and the biggest\, funkiest samples. Plus sets from Cut Capers\, The Sweet Life Society; and Mayfair Avenue regulars Rumpsteppers\, Dr Malaka\, DJ Pony Montana and DJ Chris Tofu. \n\n\n\n\nTickets are available on TicketWeb\, click here to visit the website. 
URL:https://www.theclothesmaiden.com/event/mayfair-london-extravaganza/
LOCATION:Electric Brixton\, Town Hall Parade\, London \, SW2 1RJ \, United Kingdom
CATEGORIES:Music,Things To Do
END:VEVENT
BEGIN:VEVENT
DTSTART;TZID=UTC:20160317T120000
DTEND;TZID=UTC:20160320T230000
DTSTAMP:20260423T221601
CREATED:20160303T134850Z
LAST-MODIFIED:20160303T135653Z
UID:22079-1458216000-1458514800@www.theclothesmaiden.com
SUMMARY:Number 90 Bar & Kitchen’s Birthday Weekender
DESCRIPTION:Number 90 Bar & Kitchen\, the stunning canal-side venue in Hackney Wick\, is throwing a huge four-day long party from 17th-20th March\, to celebrate turning the ripe old age of two. The weekend will feature DJs\, bands\, performers\, live art installations\, food stalls and innovative cocktails. The celebrations are all free entry\, and everyone’s invited. Since opening its doors in 2014\, Number 90 has quickly become recognised as one of the most popular creative hubs in the area and it will be marking its 2nd birthday with this momentous\, free\, Birthday Weekender. \nKicking off on Thursday 17th March\, the first day of festivities begins with friends\, family and press launch\, featuring an array of immersive entertainment to get the party started. From well-known artists creating bespoke Number 90 masterpieces\, to live music and a surprise DJ set from one of the biggest names around\, the event will also feature a “dry ice” ice-cream van. \n \nFriday evening will see compilations from the hugely popular Late Night Tales\, along with music from legendary record label Rough Trade\, providing the perfect party sound track for tackling the huge birthday piñata. On the Saturday\, the legendary Phonica Records will be spinning the vinyls alongside Slothboogie\, whilst guests can pay a visit to the Starlight Boutique glitter camp\, before bending over backwards in a huge limbo competition. \nWinding down on the Sunday\, guests can indulge in what is arguably one of the best roasts in Hackney\, whilst relaxing to a mixture of funk\, soul and reggae from Russ Ryan and DJ Scratchy. A retro record stand selling vinyls will also be set up in the bar\, so music lovers can invest in some Birthday Weekend memorabilia. For the celebrations\, Number 90 will also be unveiling their stunning new terraced decking\, an expansion to the current terrace\, allowing the party to spill out onto the scenic canal-side. Complete with its very own bar accommodating up to 100 guests\, this stand-alone area is the perfect spot to sit back and relax whilst watching the sun go down. \nNumber 90 will be showcasing its delicious new food offering throughout the weekend\, handpicking a selection of favourite dishes from the new menu for partygoers to sample. Featuring a variety of super foods\, classic dishes and burgers\, the menu centres upon fresh and locally sourced ingredients with an emphasis on vegetarian\, vegan dishes and divine gluten free desserts\, providing the perfect healthy fuel for a night of dancing. The new drinks menu will also be in full swing\, offering an array of local and international crafts beers\, innovative cocktails\, unique soft drinks and healthy smoothies. Thirst will be quenched by mouth-watering cocktails made from house-infused spirits\, all of which have been given a Number 90 twist. \n Number 90 Bar & Kitchen’s Birthday Weekender: Thursday 17th-Sunday-20th March 2016. \n Thurs 12-11.45pm\, Fri and Sat 12-4am\, Sun 12-11pm 90 Main Yard\, Wallis Road\, Hackney Wick\, E9 5LN\, London. 
URL:https://www.theclothesmaiden.com/event/number-90-bar-kitchens-birthday-weekender/
LOCATION:Number 90 Bar & Kitchen\, 90 Main Yard\, Wallis Road\, London\, Hackney Wick\, E9 5LN\, United Kingdom
CATEGORIES:Art,Bars & Pubs,Music,Things To Do
END:VEVENT
BEGIN:VEVENT
DTSTART;TZID=UTC:20160303T193000
DTEND;TZID=UTC:20160303T223000
DTSTAMP:20260423T221601
CREATED:20160218T114107Z
LAST-MODIFIED:20160218T114107Z
UID:21763-1457033400-1457044200@www.theclothesmaiden.com
SUMMARY:Cereal Killer Cafe Presents Cereal Sessions
DESCRIPTION:Head over to The Cereal Killer Cafe to enjoy an evening of acoustic music in their Camden cafe\, right in the heart of the iconic Stables market. On 3rd March they’ll have intimate acoustic sets from three different artists. This is a BYOB event. They have a very limited amount of tickets at only £5. Be quick to snap some tickets up before they completely sell out! Tickets can be purchased here. \n 
URL:https://www.theclothesmaiden.com/event/cereal-killer-cafe-presents-cereal-sessions/
LOCATION:Cereal Killer Cafe\, Mezz 2\, Stables Market\, Chalk Farm Road\, London\, Camden\,  NW1 8AH \, United Kingdom
CATEGORIES:Music
END:VEVENT
BEGIN:VEVENT
DTSTART;TZID=UTC:20160226T220000
DTEND;TZID=UTC:20160227T060000
DTSTAMP:20260423T221601
CREATED:20160208T161352Z
LAST-MODIFIED:20160208T161352Z
UID:21642-1456524000-1456552800@www.theclothesmaiden.com
SUMMARY:Percolate's Disco Party
DESCRIPTION:Percolate’s love of House & Techno comes from their roots in Disco. They want to pay homage to that. Expect massive disco balls\, balloons and some vibes for miles at one of the finest spaces in London. \nCrazy P \nHorse Meat Disco \nHNNY \nKrywald & Farrer
URL:https://www.theclothesmaiden.com/event/percolates-disco-party/
LOCATION:Oval Space\, 29-32 The Oval\, London\, Bethnal Green\, E2 9DT\, United Kingdom
CATEGORIES:Music,Things To Do
END:VEVENT
END:VCALENDAR