BEGIN:VCALENDAR
VERSION:2.0
PRODID:-//The Clothes Maiden Magazine - ECPv6.15.12//NONSGML v1.0//EN
CALSCALE:GREGORIAN
METHOD:PUBLISH
X-WR-CALNAME:The Clothes Maiden Magazine
X-ORIGINAL-URL:https://www.theclothesmaiden.com
X-WR-CALDESC:Events for The Clothes Maiden Magazine
REFRESH-INTERVAL;VALUE=DURATION:PT1H
X-Robots-Tag:noindex
X-PUBLISHED-TTL:PT1H
BEGIN:VTIMEZONE
TZID:UTC
BEGIN:STANDARD
TZOFFSETFROM:+0000
TZOFFSETTO:+0000
TZNAME:UTC
DTSTART:20150101T000000
END:STANDARD
END:VTIMEZONE
BEGIN:VEVENT
DTSTART;TZID=UTC:20160225T200000
DTEND;TZID=UTC:20160225T231500
DTSTAMP:20260423T235714
CREATED:20160208T164909Z
LAST-MODIFIED:20160208T165032Z
UID:21646-1456430400-1456442100@www.theclothesmaiden.com
SUMMARY:Musical Bingo's Heart Make Hotel
DESCRIPTION:Regardless of your relationship status for February 2016\, Musical Bingo have got you covered as they celebrate the pain and glory of love! – Musical Bingo’s ‘Heart Make Hotel’. Still not ready to give up on love? Then why not join the gang on the Thursday the 25th for ‘Heart Make Hotel’ on the evening romancer Mr. James Loveridge will be treating you to such rounds as ‘Love is the Message’\, ‘Summer of Love’ and everybody’s favourite ‘ Karaoke Classics’ It’s just like regular bingo\, but instead of shouting out numbers they play songs! Each round takes on a different theme of song choices\, these could be based on either a decade\, genre or a just just a quirky random topic. \nUnique cards are handed out whilst one of our fabulously entertaining host’s: Luisa Omielan\, Ditzy Ritzy or Eleanor Conway introduce the rules and the Prizes. Then it’s over to the DJ’s Rapture and Jonny Unknown as they spin a quick fire medley of tunes while players simply mark ‘em of their bingo cards accordingly. Prizes are won for one\, two and three lines\, and finally the Grand Prize: The Full House! \nIf that wasn’t enough excitement already\, then you can also expect some other little twists along the way\, like the ‘multi choice mystery boxes’\, and the chance to gamble your grand Prize winnings on the ‘Killer Question’ What will you decide to do?
URL:https://www.theclothesmaiden.com/event/musical-bingos-heart-make-hotel/
LOCATION:Concrete\, 56 Shoreditch High Street\, London \, Shoreditch\,  E1 6PQ\, United Kingdom
CATEGORIES:Bars & Pubs,Things To Do
END:VEVENT
BEGIN:VEVENT
DTSTART;TZID=UTC:20160219T160000
DTEND;TZID=UTC:20160219T230000
DTSTAMP:20260423T235714
CREATED:20160209T115945Z
LAST-MODIFIED:20160209T120050Z
UID:21670-1455897600-1455922800@www.theclothesmaiden.com
SUMMARY:Bompas & Parr Presents Alcoholic Architecture
DESCRIPTION:Bompas & Parr’s Alcoholic Architecture arrives in Borough Market\, featuring a walk-in cloud of breathable cocktail as part of an installation that explodes drinks to the scale of architecture. In this fully immersive alcohol environment- the cloud is entirely composed of fine spirits and mixer at a ratio of 1:3 and made using powerful humidifiers to super-saturate the air- alcohol enters the bloodstream through primarily the lungs but also the eyeballs. \nAlcoholic Architecture sits next to the UK’s earliest gothic cathedral and on the site of an ancient monastery. These themes are channelled through a drinks lists entirely comprised of spirits and beers created by monks: potations such as Chartreuse\, Benedictine\, Trappist beer and even the notorious Buckfast – a fortified wine so savage that Scotland’s parliament is reportedly drafting legislation to stop the caffeinated intoxicant from entering their country. All will be featured in elegantly balanced\, refined and luxurious conventionally served drinks that guests can take back into the cloud. \nVisits to Alcoholic Architecture are based on timed entries and experiences are limited to a maximum of 50 minutes per group. Location: 1 Cathedral St\, SE1 9DE\, London.
URL:https://www.theclothesmaiden.com/event/bompas-parr-presents-alcoholic-architecture/
LOCATION:Borough Market\, Borough High Street\,  8 Southwark Street \, London\, SE1 1TL\, United Kingdom
CATEGORIES:Bars & Pubs,Things To Do
END:VEVENT
BEGIN:VEVENT
DTSTART;TZID=UTC:20160216T193000
DTEND;TZID=UTC:20160216T221500
DTSTAMP:20260423T235714
CREATED:20160206T195531Z
LAST-MODIFIED:20160206T195531Z
UID:21596-1455651000-1455660900@www.theclothesmaiden.com
SUMMARY:Comedy Night in Hammersmith at The Grove Bar & Restaurant
DESCRIPTION:Free comedy at the awesome\, London authentic\, award-winning\, Modern Mediterranean Grove Bar & Restaurant. It is just a short walk from Hammersmith tube station and the Apollo\, a popular destination of celebrities\, frequently visited by stars such as: Alan Sugar\, Adrian Charles\, Bill Baily and Olly Murs. Comedy night starts at 7:30pm and finishes at 10:15pm\, there are 10 up and coming comedians supporting a hilarious host and two professional comedians.
URL:https://www.theclothesmaiden.com/event/free-comedy-in-hammersmith/
LOCATION:The Grove Bar & Restaurant\, 83 Hammersmith Grove\, London \, Hammersmith\, W6 0NQ\, United Kingdom
CATEGORIES:Bars & Pubs,Comedy,Things To Do
END:VEVENT
BEGIN:VEVENT
DTSTART;TZID=UTC:20160214T190000
DTEND;TZID=UTC:20160214T210000
DTSTAMP:20260423T235714
CREATED:20160206T191904Z
LAST-MODIFIED:20160206T192123Z
UID:21588-1455476400-1455483600@www.theclothesmaiden.com
SUMMARY:The Hanbury Arms Presents Cinema Club
DESCRIPTION:The Hanbury Arms is proud to present their brand\, spanking new Cinema Club in association with their friends at Flashback Records\, held upstairs in the comfort of their spacious function room. They’ll be kicking off this monthly event with an alternative Valentine’s night special. Tony Scott’s cult classic- True Romance. The price of each ticket includes the film\, as well as a selected pizza and drink. Tickets are limited so be sure to grab yours now!
URL:https://www.theclothesmaiden.com/event/the-hanbury-arms-presents-cinema-club/
LOCATION:The Hanbury Arms\, 33 Linton Street\, London\, Islington\, N1 7DU \, United Kingdom
CATEGORIES:Bars & Pubs,Film,Things To Do
END:VEVENT
BEGIN:VEVENT
DTSTART;TZID=UTC:20160214T124000
DTEND;TZID=UTC:20160214T180000
DTSTAMP:20260423T235714
CREATED:20160204T232739Z
LAST-MODIFIED:20160205T160458Z
UID:21495-1455453600-1455472800@www.theclothesmaiden.com
SUMMARY:Mr Fogg's Residence's Valentine's Day Tipsy Tea Party
DESCRIPTION:Mr Fogg’s Residence in Mayfair will be hosting a splendid Valentine’s bespoke Tipsy Tea experience on Sunday 14th February 2016. Suitors can also surprise their sweethearts with an exclusive Inception Group gift voucher to Mr Fogg’s Residence to enjoy the marvels around the world or make a reservation to experience the intriguing and unique Tipsy Tea. On arrival couples and those looking for a sufficient suitor alike\, will receive a romantic welcome of a rose and chocolates\, before being serenaded with dulcet tones from the residence’s finest pianist. \nOnce guests are seated\, they can choose between either perfectly pink Veuve Clicquot champagne cocktails\, or an alluring selection of Hendrick’s gin teas\, accompanied with a stunning selection of delectable and desirable heart-shaped sandwiches\, cakes\, pastries and petit-fours. Served on embossed fine bone china and elegantly presented on traditional three-tiered cake stands\, treats will include: cucumber\, coronation chicken\, smoked salmon\, and cheese and ham sandwiches\, Victoria sponge\, lemon drizzle cake\, meringue tarts\, macaroons\, marzipan and glacé fruits. \nGuests will then be given a twist on the traditional English drink of tea with gin tea-infused cocktails that will be served in beautiful teapots. Unique concoctions of romantic flavours will tantalise the taste buds and include: The 1840\, a zingy blend of Earl Grey-infused Hendrick’s gin\, Cointreau\, crème de pêche and orange marmalade\, and the Woburn Abbey\, a refreshing mix of English breakfast tea-infused Hendrick’s gin\, lemon juice and bee pollen sugar. \n 
URL:https://www.theclothesmaiden.com/event/mr-foggs-residences-valentines-day-tipsy-tea/
CATEGORIES:Bars & Pubs,Things To Do
ORGANIZER;CN="Mr Fogg%E2%80%99s Residence":MAILTO:residence@mr-foggs.com
END:VEVENT
BEGIN:VEVENT
DTSTART;TZID=UTC:20160213T170000
DTEND;TZID=UTC:20160214T230000
DTSTAMP:20260423T235714
CREATED:20160205T015837Z
LAST-MODIFIED:20160206T120805Z
UID:21501-1455382800-1455490800@www.theclothesmaiden.com
SUMMARY:Randall & Aubin's Valentine's Love-In Night
DESCRIPTION:This Valentine’s\, Randall & Aubin will be hosting a lavish love-in over the entire weekend\, where guests will be taken to gastronomic heaven and back – and not without a sprinkle of Soho sauciness. Executive Chef and co-founder\, Ed Baines has designed a menu that showcases the best of Mother Nature’s aphrodisiacs\, starting with sweet and delicate Papillion Oysters\, then getting hot under the collar with a sharing plate of Hot Smoke Sturgeon\, Lambert & Jackson Smoked Salmon and Caviar\, before reaching new decadent heights with Cappellini and Sea Urchins – a favourite of the Ancient Greeks. To finish on a sweet note\, guests can enjoy a seductively oozing Chocolate Fondant with velvety Vanilla Ice-Cream. \nEvery guest on Valentine’s Day will be given a raunchy gift to take home with them\, including items such as fluffy handcuffs\, \, feather ticklers and sexy dice. There will be five X-Rated goody bags filled with racy Soho surprises that guests can sign up to win on the night- not for the faint-hearted! For those who think they can handle the heat\, they just need to mention ‘X-Rated’ when booking and their name will be added into the prize draw. All Valentine’s Love-In Lovers are guaranteed to leave with a smile on their face and a spring in their step – and\, of course\, gloriously satisfied appetites. \nBookings will be taken throughout Sunday daytime as normal\, and then in two-hour slots from 6pm. Last sitting at 10pm. No bookings taken on Saturday. \nMixed selection of 8 Papillion oysters \n@ £12.00 \nPapillion oysters are similar to the Japanese variety of Kumamoto oysters – small\, sweet & truly delicious \nAssiette Valentine \nHot smoke sturgeon\, Lambert & Jackson smoked salmon\, caviar \nwith endive\, crème fraiche & blinis \n@ £25.00 \nA perfect sharing plate showcasing the best producers of these products \nCappellini with sea urchins \nin a lemon & parsley butter sauce \n@ £18.50 \nChocolate fondant \nwith vanilla ice cream \n@ £8.50 \nValentine’s Reservation Slots: \n5:00pm – 7:00pm\n7:00pm – 9:00pm\n9:00pm – 11:00pm
URL:https://www.theclothesmaiden.com/event/randall-aubin-valentines-day/
LOCATION:Randall & Aubin\, 14- 16 Brewer Street\, London\, W1F 0SG\, United Kingdom
CATEGORIES:Bars & Pubs,Restaurant Openings,Things To Do
END:VEVENT
BEGIN:VEVENT
DTSTART;VALUE=DATE:20160206
DTEND;VALUE=DATE:20160207
DTSTAMP:20260423T235714
CREATED:20160205T025516Z
LAST-MODIFIED:20160205T025750Z
UID:21508-1454716800-1454803199@www.theclothesmaiden.com
SUMMARY:Six Nations At Mac & Wild
DESCRIPTION:Mac & Wild will be taking on The Six Nations Rugby tournament this year by hosting a day of rugby\, burgers\, beer and Bloody Mary’s on Saturday 6 February. Mac & Wild will be screening both matches on the day\, kicking off with France vs Italy and gearing up to the grudge match we’ve all been waiting for\, England vs Scotland.  \nOn the menu will be the iconic veni-moo burger (included in Time Out’s Top 10 Dishes of 2015)\, a selection of craft beers and of course the Scot’s favourite\, Bloody Mary’s. Mac & Wild will also be screening all matches on the day Scotland plays throughout the tournament. Guest can enjoy the finest game and whisky sourced directly from the Scottish Highlands\, in a charmingly rustic setting whilst sitting back and watching the game.  \nLast autumn Mac & Wild restaurant launched on London’s Great Titchfield Street\, in the heart of London’s West End. Mac & Wild has been brought to London by street food sensations The Wild Game Co. Now at WGC’s first permanent home\, diners are taken on a journey to the Scottish highlands\, enjoying the finest wild venison\, game and seafood in a rustic setting. \nMac & Wild are a dynamic team\, having fun cooking and promoting modern British game and seafood\, whilst remaining true to their roots. Founded by Andy Waugh\, who hails from just north of Inverness\, all of their meat is sourced and then butchered with care by his family’s game-butchering business\, which has been in existence for over 30 years. \nOpenings Hours: \nMon – Wed:\nLunch 12:00pm – 3:30pm\nDinner 6:00pm – 11:00pm\n \nThu – Fri:\nLunch 12:00pm – 3:30pm\nDinner 6:00pm – 12:00am \nSat:\nLunch 12pm-5pm\nDinner 6:00pm – 12:00am \nSun:\nLunch 12pm-5pm (roast)
URL:https://www.theclothesmaiden.com/event/six-nations-at-mac-wild/
LOCATION:Mac & Wild\, 65 Great Titchfield Street\, London\, W1W 7PS\, United Kingdom
CATEGORIES:Bars & Pubs,Things To Do
ATTACH;FMTTYPE=image/jpeg:https://www.theclothesmaiden.com/wp-content/uploads/2016/02/Six-Nations-At-Mac-Wild-The-Clothes-Maiden.jpg
END:VEVENT
END:VCALENDAR